BEGIN:VCALENDAR
VERSION:2.0
PRODID:-//United Methodist Church of Sea Cliff - ECPv6.15.3//NONSGML v1.0//EN
CALSCALE:GREGORIAN
METHOD:PUBLISH
X-WR-CALNAME:United Methodist Church of Sea Cliff
X-ORIGINAL-URL:https://seacliffumc.org
X-WR-CALDESC:Events for United Methodist Church of Sea Cliff
REFRESH-INTERVAL;VALUE=DURATION:PT1H
X-Robots-Tag:noindex
X-PUBLISHED-TTL:PT1H
BEGIN:VTIMEZONE
TZID:America/New_York
BEGIN:DAYLIGHT
TZOFFSETFROM:-0500
TZOFFSETTO:-0400
TZNAME:EDT
DTSTART:20260308T070000
END:DAYLIGHT
BEGIN:STANDARD
TZOFFSETFROM:-0400
TZOFFSETTO:-0500
TZNAME:EST
DTSTART:20261101T060000
END:STANDARD
END:VTIMEZONE
BEGIN:VEVENT
DTSTART;TZID=America/New_York:20260426T100000
DTEND;TZID=America/New_York:20260426T110000
DTSTAMP:20260423T073653
CREATED:20251113T233649Z
LAST-MODIFIED:20251113T233649Z
UID:2545-1777197600-1777201200@seacliffumc.org
SUMMARY:Sunday Worship
DESCRIPTION:
URL:https://seacliffumc.org/event/sunday-worship-23/
CATEGORIES:Worship
END:VEVENT
BEGIN:VEVENT
DTSTART;TZID=America/New_York:20260427T190000
DTEND;TZID=America/New_York:20260427T200000
DTSTAMP:20260423T073653
CREATED:20251114T000919Z
LAST-MODIFIED:20251114T000919Z
UID:2584-1777316400-1777320000@seacliffumc.org
SUMMARY:AA
DESCRIPTION:
URL:https://seacliffumc.org/event/aa-46/
CATEGORIES:Community
END:VEVENT
BEGIN:VEVENT
DTSTART;TZID=America/New_York:20260429T100000
DTEND;TZID=America/New_York:20260429T140000
DTSTAMP:20260423T073653
CREATED:20251114T022002Z
LAST-MODIFIED:20251114T022002Z
UID:2624-1777456800-1777471200@seacliffumc.org
SUMMARY:Thrift Shop
DESCRIPTION:
URL:https://seacliffumc.org/event/thrift-shop-25/
CATEGORIES:Community
END:VEVENT
BEGIN:VEVENT
DTSTART;TZID=America/New_York:20260429T190000
DTEND;TZID=America/New_York:20260429T200000
DTSTAMP:20260423T073653
CREATED:20251114T011225Z
LAST-MODIFIED:20251114T011225Z
UID:2597-1777489200-1777492800@seacliffumc.org
SUMMARY:AA
DESCRIPTION:
URL:https://seacliffumc.org/event/aa-59/
CATEGORIES:Community
END:VEVENT
BEGIN:VEVENT
DTSTART;TZID=America/New_York:20260429T190000
DTEND;TZID=America/New_York:20260429T203000
DTSTAMP:20260423T073653
CREATED:20251114T012752Z
LAST-MODIFIED:20251114T012752Z
UID:2611-1777489200-1777494600@seacliffumc.org
SUMMARY:Choir Rehearsal
DESCRIPTION:
URL:https://seacliffumc.org/event/choir-rehearsal-25/
END:VEVENT
END:VCALENDAR