BEGIN:VCALENDAR
VERSION:2.0
PRODID:-//United Methodist Church of Sea Cliff - ECPv6.15.3//NONSGML v1.0//EN
CALSCALE:GREGORIAN
METHOD:PUBLISH
X-ORIGINAL-URL:https://seacliffumc.org
X-WR-CALDESC:Events for United Methodist Church of Sea Cliff
REFRESH-INTERVAL;VALUE=DURATION:PT1H
X-Robots-Tag:noindex
X-PUBLISHED-TTL:PT1H
BEGIN:VTIMEZONE
TZID:America/New_York
BEGIN:DAYLIGHT
TZOFFSETFROM:-0500
TZOFFSETTO:-0400
TZNAME:EDT
DTSTART:20250309T070000
END:DAYLIGHT
BEGIN:STANDARD
TZOFFSETFROM:-0400
TZOFFSETTO:-0500
TZNAME:EST
DTSTART:20251102T060000
END:STANDARD
END:VTIMEZONE
BEGIN:VEVENT
DTSTART;TZID=America/New_York:20251116T100000
DTEND;TZID=America/New_York:20251116T110000
DTSTAMP:20260423T173406
CREATED:20251113T222407Z
LAST-MODIFIED:20251113T222407Z
UID:2427-1763287200-1763290800@seacliffumc.org
SUMMARY:Sunday Worship
DESCRIPTION:
URL:https://seacliffumc.org/event/sunday-worship/
CATEGORIES:Worship
END:VEVENT
BEGIN:VEVENT
DTSTART;TZID=America/New_York:20251123T100000
DTEND;TZID=America/New_York:20251123T110000
DTSTAMP:20260423T173406
CREATED:20251113T222507Z
LAST-MODIFIED:20251113T222507Z
UID:2429-1763892000-1763895600@seacliffumc.org
SUMMARY:Sunday Worship
DESCRIPTION:
URL:https://seacliffumc.org/event/sunday-worship-2/
CATEGORIES:Worship
END:VEVENT
BEGIN:VEVENT
DTSTART;TZID=America/New_York:20251130T100000
DTEND;TZID=America/New_York:20251130T110000
DTSTAMP:20260423T173406
CREATED:20251113T225121Z
LAST-MODIFIED:20251113T225121Z
UID:2435-1764496800-1764500400@seacliffumc.org
SUMMARY:Sunday Worship
DESCRIPTION:
URL:https://seacliffumc.org/event/sunday-worship-3/
CATEGORIES:Worship
END:VEVENT
END:VCALENDAR