BEGIN:VCALENDAR
VERSION:2.0
PRODID:-//United Methodist Church of Sea Cliff - ECPv6.15.3//NONSGML v1.0//EN
CALSCALE:GREGORIAN
METHOD:PUBLISH
X-ORIGINAL-URL:https://seacliffumc.org
X-WR-CALDESC:Events for United Methodist Church of Sea Cliff
REFRESH-INTERVAL;VALUE=DURATION:PT1H
X-Robots-Tag:noindex
X-PUBLISHED-TTL:PT1H
BEGIN:VTIMEZONE
TZID:America/New_York
BEGIN:DAYLIGHT
TZOFFSETFROM:-0500
TZOFFSETTO:-0400
TZNAME:EDT
DTSTART:20260308T070000
END:DAYLIGHT
BEGIN:STANDARD
TZOFFSETFROM:-0400
TZOFFSETTO:-0500
TZNAME:EST
DTSTART:20261101T060000
END:STANDARD
END:VTIMEZONE
BEGIN:VEVENT
DTSTART;TZID=America/New_York:20260201T100000
DTEND;TZID=America/New_York:20260201T110000
DTSTAMP:20260423T113751
CREATED:20251113T232132Z
LAST-MODIFIED:20251113T232132Z
UID:2479-1769940000-1769943600@seacliffumc.org
SUMMARY:Sunday Worship
DESCRIPTION:
URL:https://seacliffumc.org/event/sunday-worship-11/
CATEGORIES:Worship
END:VEVENT
BEGIN:VEVENT
DTSTART;TZID=America/New_York:20260202T190000
DTEND;TZID=America/New_York:20260202T200000
DTSTAMP:20260423T113751
CREATED:20251113T232206Z
LAST-MODIFIED:20251113T232206Z
UID:2492-1770058800-1770062400@seacliffumc.org
SUMMARY:AA
DESCRIPTION:
URL:https://seacliffumc.org/event/aa-21/
CATEGORIES:Community
END:VEVENT
BEGIN:VEVENT
DTSTART;TZID=America/New_York:20260204T100000
DTEND;TZID=America/New_York:20260204T140000
DTSTAMP:20260423T113751
CREATED:20251113T232418Z
LAST-MODIFIED:20251113T232418Z
UID:2531-1770199200-1770213600@seacliffumc.org
SUMMARY:Thrift Shop
DESCRIPTION:
URL:https://seacliffumc.org/event/thrift-shop-13/
CATEGORIES:Community
END:VEVENT
BEGIN:VEVENT
DTSTART;TZID=America/New_York:20260204T190000
DTEND;TZID=America/New_York:20260204T200000
DTSTAMP:20260423T113751
CREATED:20251113T232246Z
LAST-MODIFIED:20251113T232246Z
UID:2505-1770231600-1770235200@seacliffumc.org
SUMMARY:AA
DESCRIPTION:
URL:https://seacliffumc.org/event/aa-34/
CATEGORIES:Community
END:VEVENT
BEGIN:VEVENT
DTSTART;TZID=America/New_York:20260204T190000
DTEND;TZID=America/New_York:20260204T203000
DTSTAMP:20260423T113751
CREATED:20251113T232347Z
LAST-MODIFIED:20251113T232347Z
UID:2518-1770231600-1770237000@seacliffumc.org
SUMMARY:Choir Rehearsal
DESCRIPTION:
URL:https://seacliffumc.org/event/choir-rehearsal-13/
END:VEVENT
BEGIN:VEVENT
DTSTART;TZID=America/New_York:20260208T100000
DTEND;TZID=America/New_York:20260208T110000
DTSTAMP:20260423T113751
CREATED:20251113T232133Z
LAST-MODIFIED:20251113T232133Z
UID:2480-1770544800-1770548400@seacliffumc.org
SUMMARY:Sunday Worship
DESCRIPTION:
URL:https://seacliffumc.org/event/sunday-worship-12/
CATEGORIES:Worship
END:VEVENT
BEGIN:VEVENT
DTSTART;TZID=America/New_York:20260209T190000
DTEND;TZID=America/New_York:20260209T200000
DTSTAMP:20260423T113751
CREATED:20251113T232206Z
LAST-MODIFIED:20251113T232206Z
UID:2493-1770663600-1770667200@seacliffumc.org
SUMMARY:AA
DESCRIPTION:
URL:https://seacliffumc.org/event/aa-22/
CATEGORIES:Community
END:VEVENT
BEGIN:VEVENT
DTSTART;TZID=America/New_York:20260211T100000
DTEND;TZID=America/New_York:20260211T140000
DTSTAMP:20260423T113751
CREATED:20251113T232418Z
LAST-MODIFIED:20251113T232418Z
UID:2532-1770804000-1770818400@seacliffumc.org
SUMMARY:Thrift Shop
DESCRIPTION:
URL:https://seacliffumc.org/event/thrift-shop-14/
CATEGORIES:Community
END:VEVENT
BEGIN:VEVENT
DTSTART;TZID=America/New_York:20260211T190000
DTEND;TZID=America/New_York:20260211T200000
DTSTAMP:20260423T113751
CREATED:20251113T232246Z
LAST-MODIFIED:20251113T232246Z
UID:2506-1770836400-1770840000@seacliffumc.org
SUMMARY:AA
DESCRIPTION:
URL:https://seacliffumc.org/event/aa-35/
CATEGORIES:Community
END:VEVENT
BEGIN:VEVENT
DTSTART;TZID=America/New_York:20260211T190000
DTEND;TZID=America/New_York:20260211T203000
DTSTAMP:20260423T113751
CREATED:20251113T232347Z
LAST-MODIFIED:20251113T232347Z
UID:2519-1770836400-1770841800@seacliffumc.org
SUMMARY:Choir Rehearsal
DESCRIPTION:
URL:https://seacliffumc.org/event/choir-rehearsal-14/
END:VEVENT
BEGIN:VEVENT
DTSTART;TZID=America/New_York:20260215T100000
DTEND;TZID=America/New_York:20260215T110000
DTSTAMP:20260423T113751
CREATED:20251113T232134Z
LAST-MODIFIED:20251113T232134Z
UID:2481-1771149600-1771153200@seacliffumc.org
SUMMARY:Sunday Worship
DESCRIPTION:
URL:https://seacliffumc.org/event/sunday-worship-13/
CATEGORIES:Worship
END:VEVENT
BEGIN:VEVENT
DTSTART;TZID=America/New_York:20260216T190000
DTEND;TZID=America/New_York:20260216T200000
DTSTAMP:20260423T113751
CREATED:20251113T232207Z
LAST-MODIFIED:20251113T232207Z
UID:2494-1771268400-1771272000@seacliffumc.org
SUMMARY:AA
DESCRIPTION:
URL:https://seacliffumc.org/event/aa-23/
CATEGORIES:Community
END:VEVENT
BEGIN:VEVENT
DTSTART;TZID=America/New_York:20260218T100000
DTEND;TZID=America/New_York:20260218T140000
DTSTAMP:20260423T113751
CREATED:20251113T232418Z
LAST-MODIFIED:20251113T232418Z
UID:2533-1771408800-1771423200@seacliffumc.org
SUMMARY:Thrift Shop
DESCRIPTION:
URL:https://seacliffumc.org/event/thrift-shop-15/
CATEGORIES:Community
END:VEVENT
BEGIN:VEVENT
DTSTART;TZID=America/New_York:20260218T190000
DTEND;TZID=America/New_York:20260218T200000
DTSTAMP:20260423T113751
CREATED:20251113T232246Z
LAST-MODIFIED:20251113T232246Z
UID:2507-1771441200-1771444800@seacliffumc.org
SUMMARY:AA
DESCRIPTION:
URL:https://seacliffumc.org/event/aa-36/
CATEGORIES:Community
END:VEVENT
BEGIN:VEVENT
DTSTART;TZID=America/New_York:20260218T190000
DTEND;TZID=America/New_York:20260218T203000
DTSTAMP:20260423T113751
CREATED:20251113T232354Z
LAST-MODIFIED:20251113T232354Z
UID:2520-1771441200-1771446600@seacliffumc.org
SUMMARY:Choir Rehearsal
DESCRIPTION:
URL:https://seacliffumc.org/event/choir-rehearsal-15/
END:VEVENT
BEGIN:VEVENT
DTSTART;TZID=America/New_York:20260222T100000
DTEND;TZID=America/New_York:20260222T110000
DTSTAMP:20260423T113751
CREATED:20251113T232135Z
LAST-MODIFIED:20251113T232135Z
UID:2482-1771754400-1771758000@seacliffumc.org
SUMMARY:Sunday Worship
DESCRIPTION:
URL:https://seacliffumc.org/event/sunday-worship-14/
CATEGORIES:Worship
END:VEVENT
BEGIN:VEVENT
DTSTART;TZID=America/New_York:20260223T190000
DTEND;TZID=America/New_York:20260223T200000
DTSTAMP:20260423T113751
CREATED:20251113T232213Z
LAST-MODIFIED:20251113T232213Z
UID:2495-1771873200-1771876800@seacliffumc.org
SUMMARY:AA
DESCRIPTION:
URL:https://seacliffumc.org/event/aa-24/
CATEGORIES:Community
END:VEVENT
BEGIN:VEVENT
DTSTART;TZID=America/New_York:20260225T100000
DTEND;TZID=America/New_York:20260225T140000
DTSTAMP:20260423T113751
CREATED:20251113T232419Z
LAST-MODIFIED:20251113T232419Z
UID:2534-1772013600-1772028000@seacliffumc.org
SUMMARY:Thrift Shop
DESCRIPTION:
URL:https://seacliffumc.org/event/thrift-shop-16/
CATEGORIES:Community
END:VEVENT
BEGIN:VEVENT
DTSTART;TZID=America/New_York:20260225T190000
DTEND;TZID=America/New_York:20260225T200000
DTSTAMP:20260423T113751
CREATED:20251113T232247Z
LAST-MODIFIED:20251113T232247Z
UID:2508-1772046000-1772049600@seacliffumc.org
SUMMARY:AA
DESCRIPTION:
URL:https://seacliffumc.org/event/aa-37/
CATEGORIES:Community
END:VEVENT
BEGIN:VEVENT
DTSTART;TZID=America/New_York:20260225T190000
DTEND;TZID=America/New_York:20260225T203000
DTSTAMP:20260423T113751
CREATED:20251113T232355Z
LAST-MODIFIED:20251113T232355Z
UID:2521-1772046000-1772051400@seacliffumc.org
SUMMARY:Choir Rehearsal
DESCRIPTION:
URL:https://seacliffumc.org/event/choir-rehearsal-16/
END:VEVENT
END:VCALENDAR