BEGIN:VCALENDAR
VERSION:2.0
PRODID:-//United Methodist Church of Sea Cliff - ECPv6.15.3//NONSGML v1.0//EN
CALSCALE:GREGORIAN
METHOD:PUBLISH
X-WR-CALNAME:United Methodist Church of Sea Cliff
X-ORIGINAL-URL:https://seacliffumc.org
X-WR-CALDESC:Events for United Methodist Church of Sea Cliff
REFRESH-INTERVAL;VALUE=DURATION:PT1H
X-Robots-Tag:noindex
X-PUBLISHED-TTL:PT1H
BEGIN:VTIMEZONE
TZID:America/New_York
BEGIN:DAYLIGHT
TZOFFSETFROM:-0500
TZOFFSETTO:-0400
TZNAME:EDT
DTSTART:20260308T070000
END:DAYLIGHT
BEGIN:STANDARD
TZOFFSETFROM:-0400
TZOFFSETTO:-0500
TZNAME:EST
DTSTART:20261101T060000
END:STANDARD
END:VTIMEZONE
BEGIN:VEVENT
DTSTART;TZID=America/New_York:20260503T100000
DTEND;TZID=America/New_York:20260503T110000
DTSTAMP:20260423T102055
CREATED:20251113T233650Z
LAST-MODIFIED:20251113T233650Z
UID:2546-1777802400-1777806000@seacliffumc.org
SUMMARY:Sunday Worship
DESCRIPTION:
URL:https://seacliffumc.org/event/sunday-worship-24/
CATEGORIES:Worship
END:VEVENT
BEGIN:VEVENT
DTSTART;TZID=America/New_York:20260504T190000
DTEND;TZID=America/New_York:20260504T200000
DTSTAMP:20260423T102055
CREATED:20251114T000920Z
LAST-MODIFIED:20251114T000920Z
UID:2585-1777921200-1777924800@seacliffumc.org
SUMMARY:AA
DESCRIPTION:
URL:https://seacliffumc.org/event/aa-47/
CATEGORIES:Community
END:VEVENT
BEGIN:VEVENT
DTSTART;TZID=America/New_York:20260506T100000
DTEND;TZID=America/New_York:20260506T140000
DTSTAMP:20260423T102055
CREATED:20251114T022003Z
LAST-MODIFIED:20251114T022003Z
UID:2625-1778061600-1778076000@seacliffumc.org
SUMMARY:Thrift Shop
DESCRIPTION:
URL:https://seacliffumc.org/event/thrift-shop-26/
CATEGORIES:Community
END:VEVENT
BEGIN:VEVENT
DTSTART;TZID=America/New_York:20260506T190000
DTEND;TZID=America/New_York:20260506T200000
DTSTAMP:20260423T102055
CREATED:20251114T011227Z
LAST-MODIFIED:20251114T011227Z
UID:2598-1778094000-1778097600@seacliffumc.org
SUMMARY:AA
DESCRIPTION:
URL:https://seacliffumc.org/event/aa-60/
CATEGORIES:Community
END:VEVENT
BEGIN:VEVENT
DTSTART;TZID=America/New_York:20260506T190000
DTEND;TZID=America/New_York:20260506T203000
DTSTAMP:20260423T102055
CREATED:20251114T014228Z
LAST-MODIFIED:20251114T014228Z
UID:2612-1778094000-1778099400@seacliffumc.org
SUMMARY:Choir Rehearsal
DESCRIPTION:
URL:https://seacliffumc.org/event/choir-rehearsal-26/
END:VEVENT
BEGIN:VEVENT
DTSTART;TZID=America/New_York:20260510T100000
DTEND;TZID=America/New_York:20260510T110000
DTSTAMP:20260423T102055
CREATED:20251113T233651Z
LAST-MODIFIED:20251113T233651Z
UID:2547-1778407200-1778410800@seacliffumc.org
SUMMARY:Sunday Worship
DESCRIPTION:
URL:https://seacliffumc.org/event/sunday-worship-25/
CATEGORIES:Worship
END:VEVENT
BEGIN:VEVENT
DTSTART;TZID=America/New_York:20260511T190000
DTEND;TZID=America/New_York:20260511T200000
DTSTAMP:20260423T102055
CREATED:20251114T000921Z
LAST-MODIFIED:20251114T000921Z
UID:2586-1778526000-1778529600@seacliffumc.org
SUMMARY:AA
DESCRIPTION:
URL:https://seacliffumc.org/event/aa-48/
CATEGORIES:Community
END:VEVENT
BEGIN:VEVENT
DTSTART;TZID=America/New_York:20260513T100000
DTEND;TZID=America/New_York:20260513T140000
DTSTAMP:20260423T102055
CREATED:20251114T022004Z
LAST-MODIFIED:20251114T022004Z
UID:2626-1778666400-1778680800@seacliffumc.org
SUMMARY:Thrift Shop
DESCRIPTION:
URL:https://seacliffumc.org/event/thrift-shop-27/
CATEGORIES:Community
END:VEVENT
BEGIN:VEVENT
DTSTART;TZID=America/New_York:20260513T190000
DTEND;TZID=America/New_York:20260513T200000
DTSTAMP:20260423T102055
CREATED:20251114T011227Z
LAST-MODIFIED:20251114T011227Z
UID:2599-1778698800-1778702400@seacliffumc.org
SUMMARY:AA
DESCRIPTION:
URL:https://seacliffumc.org/event/aa-61/
CATEGORIES:Community
END:VEVENT
BEGIN:VEVENT
DTSTART;TZID=America/New_York:20260513T190000
DTEND;TZID=America/New_York:20260513T203000
DTSTAMP:20260423T102055
CREATED:20251114T014230Z
LAST-MODIFIED:20251114T014230Z
UID:2613-1778698800-1778704200@seacliffumc.org
SUMMARY:Choir Rehearsal
DESCRIPTION:
URL:https://seacliffumc.org/event/choir-rehearsal-27/
END:VEVENT
BEGIN:VEVENT
DTSTART;TZID=America/New_York:20260517T100000
DTEND;TZID=America/New_York:20260517T110000
DTSTAMP:20260423T102055
CREATED:20251113T233652Z
LAST-MODIFIED:20251113T233652Z
UID:2548-1779012000-1779015600@seacliffumc.org
SUMMARY:Sunday Worship
DESCRIPTION:
URL:https://seacliffumc.org/event/sunday-worship-26/
CATEGORIES:Worship
END:VEVENT
BEGIN:VEVENT
DTSTART;TZID=America/New_York:20260518T190000
DTEND;TZID=America/New_York:20260518T200000
DTSTAMP:20260423T102055
CREATED:20251114T002145Z
LAST-MODIFIED:20251114T002145Z
UID:2587-1779130800-1779134400@seacliffumc.org
SUMMARY:AA
DESCRIPTION:
URL:https://seacliffumc.org/event/aa-49/
CATEGORIES:Community
END:VEVENT
BEGIN:VEVENT
DTSTART;TZID=America/New_York:20260520T100000
DTEND;TZID=America/New_York:20260520T140000
DTSTAMP:20260423T102055
CREATED:20251114T024348Z
LAST-MODIFIED:20251114T024348Z
UID:2627-1779271200-1779285600@seacliffumc.org
SUMMARY:Thrift Shop
DESCRIPTION:
URL:https://seacliffumc.org/event/thrift-shop-2/
CATEGORIES:Community
END:VEVENT
BEGIN:VEVENT
DTSTART;TZID=America/New_York:20260520T190000
DTEND;TZID=America/New_York:20260520T200000
DTSTAMP:20260423T102055
CREATED:20251114T011228Z
LAST-MODIFIED:20251114T011228Z
UID:2600-1779303600-1779307200@seacliffumc.org
SUMMARY:AA
DESCRIPTION:
URL:https://seacliffumc.org/event/aa-62/
CATEGORIES:Community
END:VEVENT
BEGIN:VEVENT
DTSTART;TZID=America/New_York:20260520T190000
DTEND;TZID=America/New_York:20260520T203000
DTSTAMP:20260423T102055
CREATED:20251114T014232Z
LAST-MODIFIED:20251114T014232Z
UID:2614-1779303600-1779309000@seacliffumc.org
SUMMARY:Choir Rehearsal
DESCRIPTION:
URL:https://seacliffumc.org/event/choir-rehearsal-28/
END:VEVENT
BEGIN:VEVENT
DTSTART;TZID=America/New_York:20260524T100000
DTEND;TZID=America/New_York:20260524T110000
DTSTAMP:20260423T102055
CREATED:20251113T233652Z
LAST-MODIFIED:20251113T233652Z
UID:2549-1779616800-1779620400@seacliffumc.org
SUMMARY:Sunday Worship
DESCRIPTION:
URL:https://seacliffumc.org/event/sunday-worship-27/
CATEGORIES:Worship
END:VEVENT
BEGIN:VEVENT
DTSTART;TZID=America/New_York:20260525T190000
DTEND;TZID=America/New_York:20260525T200000
DTSTAMP:20260423T102055
CREATED:20251114T002147Z
LAST-MODIFIED:20251114T002147Z
UID:2588-1779735600-1779739200@seacliffumc.org
SUMMARY:AA
DESCRIPTION:
URL:https://seacliffumc.org/event/aa-50/
CATEGORIES:Community
END:VEVENT
BEGIN:VEVENT
DTSTART;TZID=America/New_York:20260527T100000
DTEND;TZID=America/New_York:20260527T140000
DTSTAMP:20260423T102055
CREATED:20251114T024353Z
LAST-MODIFIED:20251114T024353Z
UID:2628-1779876000-1779890400@seacliffumc.org
SUMMARY:Thrift Shop
DESCRIPTION:
URL:https://seacliffumc.org/event/thrift-shop-28/
CATEGORIES:Community
END:VEVENT
BEGIN:VEVENT
DTSTART;TZID=America/New_York:20260527T190000
DTEND;TZID=America/New_York:20260527T200000
DTSTAMP:20260423T102055
CREATED:20251114T011229Z
LAST-MODIFIED:20251114T011229Z
UID:2601-1779908400-1779912000@seacliffumc.org
SUMMARY:AA
DESCRIPTION:
URL:https://seacliffumc.org/event/aa-63/
CATEGORIES:Community
END:VEVENT
BEGIN:VEVENT
DTSTART;TZID=America/New_York:20260527T190000
DTEND;TZID=America/New_York:20260527T203000
DTSTAMP:20260423T102055
CREATED:20251114T014233Z
LAST-MODIFIED:20251114T014233Z
UID:2615-1779908400-1779913800@seacliffumc.org
SUMMARY:Choir Rehearsal
DESCRIPTION:
URL:https://seacliffumc.org/event/choir-rehearsal-29/
END:VEVENT
BEGIN:VEVENT
DTSTART;TZID=America/New_York:20260531T100000
DTEND;TZID=America/New_York:20260531T110000
DTSTAMP:20260423T102055
CREATED:20251113T233654Z
LAST-MODIFIED:20251113T233654Z
UID:2550-1780221600-1780225200@seacliffumc.org
SUMMARY:Sunday Worship
DESCRIPTION:
URL:https://seacliffumc.org/event/sunday-worship-28/
CATEGORIES:Worship
END:VEVENT
END:VCALENDAR