BEGIN:VCALENDAR
VERSION:2.0
PRODID:-//United Methodist Church of Sea Cliff - ECPv6.15.3//NONSGML v1.0//EN
CALSCALE:GREGORIAN
METHOD:PUBLISH
X-WR-CALNAME:United Methodist Church of Sea Cliff
X-ORIGINAL-URL:https://seacliffumc.org
X-WR-CALDESC:Events for United Methodist Church of Sea Cliff
REFRESH-INTERVAL;VALUE=DURATION:PT1H
X-Robots-Tag:noindex
X-PUBLISHED-TTL:PT1H
BEGIN:VTIMEZONE
TZID:America/New_York
BEGIN:DAYLIGHT
TZOFFSETFROM:-0500
TZOFFSETTO:-0400
TZNAME:EDT
DTSTART:20260308T070000
END:DAYLIGHT
BEGIN:STANDARD
TZOFFSETFROM:-0400
TZOFFSETTO:-0500
TZNAME:EST
DTSTART:20261101T060000
END:STANDARD
END:VTIMEZONE
BEGIN:VEVENT
DTSTART;TZID=America/New_York:20260601T190000
DTEND;TZID=America/New_York:20260601T200000
DTSTAMP:20260423T113732
CREATED:20251114T002147Z
LAST-MODIFIED:20251114T002147Z
UID:2589-1780340400-1780344000@seacliffumc.org
SUMMARY:AA
DESCRIPTION:
URL:https://seacliffumc.org/event/aa-51/
CATEGORIES:Community
END:VEVENT
BEGIN:VEVENT
DTSTART;TZID=America/New_York:20260603T100000
DTEND;TZID=America/New_York:20260603T140000
DTSTAMP:20260423T113732
CREATED:20251114T024355Z
LAST-MODIFIED:20251114T024355Z
UID:2629-1780480800-1780495200@seacliffumc.org
SUMMARY:Thrift Shop
DESCRIPTION:
URL:https://seacliffumc.org/event/thrift-shop-29/
CATEGORIES:Community
END:VEVENT
BEGIN:VEVENT
DTSTART;TZID=America/New_York:20260603T190000
DTEND;TZID=America/New_York:20260603T200000
DTSTAMP:20260423T113732
CREATED:20251114T012253Z
LAST-MODIFIED:20251114T012253Z
UID:2602-1780513200-1780516800@seacliffumc.org
SUMMARY:AA
DESCRIPTION:
URL:https://seacliffumc.org/event/aa-64/
CATEGORIES:Community
END:VEVENT
BEGIN:VEVENT
DTSTART;TZID=America/New_York:20260603T190000
DTEND;TZID=America/New_York:20260603T203000
DTSTAMP:20260423T113732
CREATED:20251114T014233Z
LAST-MODIFIED:20251114T014233Z
UID:2616-1780513200-1780518600@seacliffumc.org
SUMMARY:Choir Rehearsal
DESCRIPTION:
URL:https://seacliffumc.org/event/choir-rehearsal-30/
END:VEVENT
BEGIN:VEVENT
DTSTART;TZID=America/New_York:20260607T100000
DTEND;TZID=America/New_York:20260607T110000
DTSTAMP:20260423T113732
CREATED:20251113T233654Z
LAST-MODIFIED:20251113T233654Z
UID:2551-1780826400-1780830000@seacliffumc.org
SUMMARY:Sunday Worship
DESCRIPTION:
URL:https://seacliffumc.org/event/sunday-worship-29/
CATEGORIES:Worship
END:VEVENT
BEGIN:VEVENT
DTSTART;TZID=America/New_York:20260608T190000
DTEND;TZID=America/New_York:20260608T200000
DTSTAMP:20260423T113732
CREATED:20251114T002149Z
LAST-MODIFIED:20251114T002149Z
UID:2590-1780945200-1780948800@seacliffumc.org
SUMMARY:AA
DESCRIPTION:
URL:https://seacliffumc.org/event/aa-52/
CATEGORIES:Community
END:VEVENT
BEGIN:VEVENT
DTSTART;TZID=America/New_York:20260610T100000
DTEND;TZID=America/New_York:20260610T140000
DTSTAMP:20260423T113732
CREATED:20251114T024358Z
LAST-MODIFIED:20251114T024358Z
UID:2630-1781085600-1781100000@seacliffumc.org
SUMMARY:Thrift Shop
DESCRIPTION:
URL:https://seacliffumc.org/event/thrift-shop-30/
CATEGORIES:Community
END:VEVENT
BEGIN:VEVENT
DTSTART;TZID=America/New_York:20260610T190000
DTEND;TZID=America/New_York:20260610T200000
DTSTAMP:20260423T113732
CREATED:20251114T012255Z
LAST-MODIFIED:20251114T012255Z
UID:2603-1781118000-1781121600@seacliffumc.org
SUMMARY:AA
DESCRIPTION:
URL:https://seacliffumc.org/event/aa-65/
CATEGORIES:Community
END:VEVENT
BEGIN:VEVENT
DTSTART;TZID=America/New_York:20260610T190000
DTEND;TZID=America/New_York:20260610T203000
DTSTAMP:20260423T113732
CREATED:20251114T020208Z
LAST-MODIFIED:20251114T020208Z
UID:2617-1781118000-1781123400@seacliffumc.org
SUMMARY:Choir Rehearsal
DESCRIPTION:
URL:https://seacliffumc.org/event/choir-rehearsal-31/
END:VEVENT
BEGIN:VEVENT
DTSTART;TZID=America/New_York:20260614T100000
DTEND;TZID=America/New_York:20260614T110000
DTSTAMP:20260423T113732
CREATED:20251113T233707Z
LAST-MODIFIED:20251113T233707Z
UID:2552-1781431200-1781434800@seacliffumc.org
SUMMARY:Sunday Worship
DESCRIPTION:
URL:https://seacliffumc.org/event/sunday-worship-30/
CATEGORIES:Worship
END:VEVENT
BEGIN:VEVENT
DTSTART;TZID=America/New_York:20260615T190000
DTEND;TZID=America/New_York:20260615T200000
DTSTAMP:20260423T113732
CREATED:20251114T002149Z
LAST-MODIFIED:20251114T002149Z
UID:2591-1781550000-1781553600@seacliffumc.org
SUMMARY:AA
DESCRIPTION:
URL:https://seacliffumc.org/event/aa-53/
CATEGORIES:Community
END:VEVENT
BEGIN:VEVENT
DTSTART;TZID=America/New_York:20260617T100000
DTEND;TZID=America/New_York:20260617T140000
DTSTAMP:20260423T113732
CREATED:20251114T024359Z
LAST-MODIFIED:20251114T024359Z
UID:2631-1781690400-1781704800@seacliffumc.org
SUMMARY:Thrift Shop
DESCRIPTION:
URL:https://seacliffumc.org/event/thrift-shop-31/
CATEGORIES:Community
END:VEVENT
BEGIN:VEVENT
DTSTART;TZID=America/New_York:20260617T190000
DTEND;TZID=America/New_York:20260617T200000
DTSTAMP:20260423T113732
CREATED:20251114T012256Z
LAST-MODIFIED:20251114T012256Z
UID:2604-1781722800-1781726400@seacliffumc.org
SUMMARY:AA
DESCRIPTION:
URL:https://seacliffumc.org/event/aa-66/
CATEGORIES:Community
END:VEVENT
BEGIN:VEVENT
DTSTART;TZID=America/New_York:20260617T190000
DTEND;TZID=America/New_York:20260617T203000
DTSTAMP:20260423T113732
CREATED:20251114T020210Z
LAST-MODIFIED:20251114T020210Z
UID:2618-1781722800-1781728200@seacliffumc.org
SUMMARY:Choir Rehearsal
DESCRIPTION:
URL:https://seacliffumc.org/event/choir-rehearsal-32/
END:VEVENT
BEGIN:VEVENT
DTSTART;TZID=America/New_York:20260621T100000
DTEND;TZID=America/New_York:20260621T110000
DTSTAMP:20260423T113732
CREATED:20251113T233707Z
LAST-MODIFIED:20251113T233707Z
UID:2553-1782036000-1782039600@seacliffumc.org
SUMMARY:Sunday Worship
DESCRIPTION:
URL:https://seacliffumc.org/event/sunday-worship-31/
CATEGORIES:Worship
END:VEVENT
BEGIN:VEVENT
DTSTART;TZID=America/New_York:20260622T190000
DTEND;TZID=America/New_York:20260622T200000
DTSTAMP:20260423T113732
CREATED:20251114T004351Z
LAST-MODIFIED:20251114T004351Z
UID:2592-1782154800-1782158400@seacliffumc.org
SUMMARY:AA
DESCRIPTION:
URL:https://seacliffumc.org/event/aa-54/
CATEGORIES:Community
END:VEVENT
BEGIN:VEVENT
DTSTART;TZID=America/New_York:20260624T100000
DTEND;TZID=America/New_York:20260624T140000
DTSTAMP:20260423T113732
CREATED:20251114T030205Z
LAST-MODIFIED:20251114T030205Z
UID:2632-1782295200-1782309600@seacliffumc.org
SUMMARY:Thrift Shop
DESCRIPTION:
URL:https://seacliffumc.org/event/thrift-shop-32/
CATEGORIES:Community
END:VEVENT
BEGIN:VEVENT
DTSTART;TZID=America/New_York:20260624T190000
DTEND;TZID=America/New_York:20260624T200000
DTSTAMP:20260423T113732
CREATED:20251114T012257Z
LAST-MODIFIED:20251114T012257Z
UID:2605-1782327600-1782331200@seacliffumc.org
SUMMARY:AA
DESCRIPTION:
URL:https://seacliffumc.org/event/aa-67/
CATEGORIES:Community
END:VEVENT
BEGIN:VEVENT
DTSTART;TZID=America/New_York:20260624T190000
DTEND;TZID=America/New_York:20260624T203000
DTSTAMP:20260423T113732
CREATED:20251114T020212Z
LAST-MODIFIED:20251114T020212Z
UID:2619-1782327600-1782333000@seacliffumc.org
SUMMARY:Choir Rehearsal
DESCRIPTION:
URL:https://seacliffumc.org/event/choir-rehearsal-33/
END:VEVENT
BEGIN:VEVENT
DTSTART;TZID=America/New_York:20260628T100000
DTEND;TZID=America/New_York:20260628T110000
DTSTAMP:20260423T113732
CREATED:20251113T233708Z
LAST-MODIFIED:20251113T233708Z
UID:2554-1782640800-1782644400@seacliffumc.org
SUMMARY:Sunday Worship
DESCRIPTION:
URL:https://seacliffumc.org/event/sunday-worship-32/
CATEGORIES:Worship
END:VEVENT
BEGIN:VEVENT
DTSTART;TZID=America/New_York:20260629T190000
DTEND;TZID=America/New_York:20260629T200000
DTSTAMP:20260423T113732
CREATED:20251114T004354Z
LAST-MODIFIED:20251114T004354Z
UID:2593-1782759600-1782763200@seacliffumc.org
SUMMARY:AA
DESCRIPTION:
URL:https://seacliffumc.org/event/aa-55/
CATEGORIES:Community
END:VEVENT
END:VCALENDAR