BEGIN:VCALENDAR
VERSION:2.0
PRODID:-//United Methodist Church of Sea Cliff - ECPv6.15.3//NONSGML v1.0//EN
CALSCALE:GREGORIAN
METHOD:PUBLISH
X-WR-CALNAME:United Methodist Church of Sea Cliff
X-ORIGINAL-URL:https://seacliffumc.org
X-WR-CALDESC:Events for United Methodist Church of Sea Cliff
REFRESH-INTERVAL;VALUE=DURATION:PT1H
X-Robots-Tag:noindex
X-PUBLISHED-TTL:PT1H
BEGIN:VTIMEZONE
TZID:America/New_York
BEGIN:DAYLIGHT
TZOFFSETFROM:-0500
TZOFFSETTO:-0400
TZNAME:EDT
DTSTART:20260308T070000
END:DAYLIGHT
BEGIN:STANDARD
TZOFFSETFROM:-0400
TZOFFSETTO:-0500
TZNAME:EST
DTSTART:20261101T060000
END:STANDARD
END:VTIMEZONE
BEGIN:VEVENT
DTSTART;TZID=America/New_York:20260701T190000
DTEND;TZID=America/New_York:20260701T200000
DTSTAMP:20260423T124816
CREATED:20251114T012257Z
LAST-MODIFIED:20251114T012257Z
UID:2606-1782932400-1782936000@seacliffumc.org
SUMMARY:AA
DESCRIPTION:
URL:https://seacliffumc.org/event/aa-68/
CATEGORIES:Community
END:VEVENT
BEGIN:VEVENT
DTSTART;TZID=America/New_York:20260705T100000
DTEND;TZID=America/New_York:20260705T110000
DTSTAMP:20260423T124816
CREATED:20251113T233708Z
LAST-MODIFIED:20251113T233708Z
UID:2555-1783245600-1783249200@seacliffumc.org
SUMMARY:Sunday Worship
DESCRIPTION:
URL:https://seacliffumc.org/event/sunday-worship-33/
CATEGORIES:Worship
END:VEVENT
BEGIN:VEVENT
DTSTART;TZID=America/New_York:20260712T100000
DTEND;TZID=America/New_York:20260712T110000
DTSTAMP:20260423T124816
CREATED:20251113T233708Z
LAST-MODIFIED:20251113T233708Z
UID:2556-1783850400-1783854000@seacliffumc.org
SUMMARY:Sunday Worship
DESCRIPTION:
URL:https://seacliffumc.org/event/sunday-worship-34/
CATEGORIES:Worship
END:VEVENT
BEGIN:VEVENT
DTSTART;TZID=America/New_York:20260719T100000
DTEND;TZID=America/New_York:20260719T110000
DTSTAMP:20260423T124816
CREATED:20251113T233908Z
LAST-MODIFIED:20251113T233908Z
UID:2557-1784455200-1784458800@seacliffumc.org
SUMMARY:Sunday Worship
DESCRIPTION:
URL:https://seacliffumc.org/event/sunday-worship-35/
CATEGORIES:Worship
END:VEVENT
BEGIN:VEVENT
DTSTART;TZID=America/New_York:20260726T100000
DTEND;TZID=America/New_York:20260726T110000
DTSTAMP:20260423T124816
CREATED:20251113T233910Z
LAST-MODIFIED:20251113T233910Z
UID:2558-1785060000-1785063600@seacliffumc.org
SUMMARY:Sunday Worship
DESCRIPTION:
URL:https://seacliffumc.org/event/sunday-worship-36/
CATEGORIES:Worship
END:VEVENT
END:VCALENDAR