BEGIN:VCALENDAR
VERSION:2.0
PRODID:-//United Methodist Church of Sea Cliff - ECPv6.15.3//NONSGML v1.0//EN
CALSCALE:GREGORIAN
METHOD:PUBLISH
X-WR-CALNAME:United Methodist Church of Sea Cliff
X-ORIGINAL-URL:https://seacliffumc.org
X-WR-CALDESC:Events for United Methodist Church of Sea Cliff
REFRESH-INTERVAL;VALUE=DURATION:PT1H
X-Robots-Tag:noindex
X-PUBLISHED-TTL:PT1H
BEGIN:VTIMEZONE
TZID:America/New_York
BEGIN:DAYLIGHT
TZOFFSETFROM:-0500
TZOFFSETTO:-0400
TZNAME:EDT
DTSTART:20260308T070000
END:DAYLIGHT
BEGIN:STANDARD
TZOFFSETFROM:-0400
TZOFFSETTO:-0500
TZNAME:EST
DTSTART:20261101T060000
END:STANDARD
END:VTIMEZONE
BEGIN:VEVENT
DTSTART;TZID=America/New_York:20260802T100000
DTEND;TZID=America/New_York:20260802T110000
DTSTAMP:20260423T135422
CREATED:20251113T233910Z
LAST-MODIFIED:20251113T233910Z
UID:2559-1785664800-1785668400@seacliffumc.org
SUMMARY:Sunday Worship
DESCRIPTION:
URL:https://seacliffumc.org/event/sunday-worship-37/
CATEGORIES:Worship
END:VEVENT
BEGIN:VEVENT
DTSTART;TZID=America/New_York:20260809T100000
DTEND;TZID=America/New_York:20260809T110000
DTSTAMP:20260423T135422
CREATED:20251113T233911Z
LAST-MODIFIED:20251113T233911Z
UID:2560-1786269600-1786273200@seacliffumc.org
SUMMARY:Sunday Worship
DESCRIPTION:
URL:https://seacliffumc.org/event/sunday-worship-38/
CATEGORIES:Worship
END:VEVENT
BEGIN:VEVENT
DTSTART;TZID=America/New_York:20260816T100000
DTEND;TZID=America/New_York:20260816T110000
DTSTAMP:20260423T135422
CREATED:20251113T233911Z
LAST-MODIFIED:20251113T233911Z
UID:2561-1786874400-1786878000@seacliffumc.org
SUMMARY:Sunday Worship
DESCRIPTION:
URL:https://seacliffumc.org/event/sunday-worship-39/
CATEGORIES:Worship
END:VEVENT
BEGIN:VEVENT
DTSTART;TZID=America/New_York:20260823T100000
DTEND;TZID=America/New_York:20260823T110000
DTSTAMP:20260423T135422
CREATED:20251113T234108Z
LAST-MODIFIED:20251113T234108Z
UID:2562-1787479200-1787482800@seacliffumc.org
SUMMARY:Sunday Worship
DESCRIPTION:
URL:https://seacliffumc.org/event/sunday-worship-40/
CATEGORIES:Worship
END:VEVENT
BEGIN:VEVENT
DTSTART;TZID=America/New_York:20260830T100000
DTEND;TZID=America/New_York:20260830T110000
DTSTAMP:20260423T135422
CREATED:20251113T234111Z
LAST-MODIFIED:20251113T234111Z
UID:2563-1788084000-1788087600@seacliffumc.org
SUMMARY:Sunday Worship
DESCRIPTION:
URL:https://seacliffumc.org/event/sunday-worship-41/
CATEGORIES:Worship
END:VEVENT
END:VCALENDAR